BEGIN:VCALENDAR
VERSION:2.0
PRODID:SchoolNow
CALSCALE:GREGORIAN
BEGIN:VEVENT
UID:0e412a92-6a7e-11f0-90dc-024bd1c1299b
DTSTAMP:20251217T081016Z
SUMMARY:5th Gr. Parent Mtg w/ Bert Lynn Principal
URL;VALUE=URI:https://www.tusd.org/schools/towers/calendar/8448799/5th-gr-p
 arent-mtg-w-bert-lynn-principal
DTSTART:20260130T020000Z
DTEND:20260130T030000Z
END:VEVENT
END:VCALENDAR
