BEGIN:VCALENDAR
VERSION:2.0
PRODID:SchoolNow
CALSCALE:GREGORIAN
BEGIN:VEVENT
UID:0e412952-6a7e-11f0-9571-024bd1c1299b
DTSTAMP:20251217T081015Z
SUMMARY:Family Dance
URL;VALUE=URI:https://www.tusd.org/schools/towers/calendar/8448798/family-d
 ance
DTSTART:20260131T020000Z
DTEND:20260131T050000Z
END:VEVENT
END:VCALENDAR
