BEGIN:VCALENDAR
VERSION:2.0
PRODID:SchoolNow
CALSCALE:GREGORIAN
BEGIN:VEVENT
UID:0e4125c4-6a7e-11f0-8fd0-024bd1c1299b
DTSTAMP:20251217T081016Z
SUMMARY:Harvest Festival
URL;VALUE=URI:https://www.tusd.org/schools/towers/calendar/8448797/harvest-
 festival
DTSTART;VALUE=DATE:20251025
DTEND;VALUE=DATE:20251026
END:VEVENT
END:VCALENDAR
