BEGIN:VCALENDAR
VERSION:2.0
PRODID:SchoolNow
CALSCALE:GREGORIAN
BEGIN:VEVENT
UID:71b967f6-572d-11f0-b506-0a58a9feac02
DTSTAMP:20251217T081015Z
SUMMARY:Last Day of School
URL;VALUE=URI:https://www.tusd.org/schools/towers/calendar/8376715/last-day
 -of-school
DTSTART;VALUE=DATE:20260611
DTEND;VALUE=DATE:20260612
END:VEVENT
END:VCALENDAR
