BEGIN:VCALENDAR
VERSION:2.0
PRODID:SchoolNow
CALSCALE:GREGORIAN
BEGIN:VEVENT
UID:71b96710-572d-11f0-a97e-0a58a9feac02
DTSTAMP:20251217T081015Z
SUMMARY:5th Gr. Culmination Day
URL;VALUE=URI:https://www.tusd.org/schools/towers/calendar/8376714/5th-gr-c
 ulmination-day
DTSTART;VALUE=DATE:20260610
DTEND;VALUE=DATE:20260611
END:VEVENT
END:VCALENDAR
