BEGIN:VCALENDAR
VERSION:2.0
PRODID:SchoolNow
CALSCALE:GREGORIAN
BEGIN:VEVENT
UID:71b96558-572d-11f0-a093-0a58a9feac02
DTSTAMP:20251217T081016Z
SUMMARY:Open House & PTA Association Mtg.
URL;VALUE=URI:https://www.tusd.org/schools/towers/calendar/8376712/open-hou
 se-pta-association-mtg
DTSTART:20260522T003000Z
DTEND:20260522T013000Z
END:VEVENT
END:VCALENDAR
