BEGIN:VCALENDAR
VERSION:2.0
PRODID:SchoolNow
CALSCALE:GREGORIAN
BEGIN:VEVENT
UID:71b9647c-572d-11f0-bdff-0a58a9feac02
DTSTAMP:20251217T081015Z
SUMMARY:Book Fair
URL;VALUE=URI:https://www.tusd.org/schools/towers/calendar/8376711/book-fai
 r
DTSTART;VALUE=DATE:20260518
DTEND;VALUE=DATE:20260523
END:VEVENT
END:VCALENDAR
