BEGIN:VCALENDAR
VERSION:2.0
PRODID:SchoolNow
CALSCALE:GREGORIAN
BEGIN:VEVENT
UID:71b963aa-572d-11f0-bee9-0a58a9feac02
DTSTAMP:20251217T081016Z
SUMMARY:Non-Instructional Day
URL;VALUE=URI:https://www.tusd.org/schools/towers/calendar/8376710/non-inst
 ructional-day
DTSTART;VALUE=DATE:20260501
DTEND;VALUE=DATE:20260502
END:VEVENT
END:VCALENDAR
