BEGIN:VCALENDAR
VERSION:2.0
PRODID:SchoolNow
CALSCALE:GREGORIAN
BEGIN:VEVENT
UID:71b962ce-572d-11f0-9bc1-0a58a9feac02
DTSTAMP:20251217T081015Z
SUMMARY:Talent Show
URL;VALUE=URI:https://www.tusd.org/schools/towers/calendar/8376709/talent-s
 how
DTSTART:20260425T010000Z
DTEND:20260425T040000Z
END:VEVENT
END:VCALENDAR
