BEGIN:VCALENDAR
VERSION:2.0
PRODID:SchoolNow
CALSCALE:GREGORIAN
BEGIN:VEVENT
UID:71b961f2-572d-11f0-8678-0a58a9feac02
DTSTAMP:20251217T081016Z
SUMMARY:Spring Picture Day (Class Photos)
URL;VALUE=URI:https://www.tusd.org/schools/towers/calendar/8376708/spring-p
 icture-day-class-photos
DTSTART;VALUE=DATE:20260423
DTEND;VALUE=DATE:20260424
END:VEVENT
END:VCALENDAR
