BEGIN:VCALENDAR
VERSION:2.0
PRODID:SchoolNow
CALSCALE:GREGORIAN
BEGIN:VEVENT
UID:71b96116-572d-11f0-9074-0a58a9feac02
DTSTAMP:20251217T081016Z
SUMMARY:Blue Ribbon Week
URL;VALUE=URI:https://www.tusd.org/schools/towers/calendar/8376707/blue-rib
 bon-week
DTSTART;VALUE=DATE:20260406
DTEND;VALUE=DATE:20260411
END:VEVENT
END:VCALENDAR
