BEGIN:VCALENDAR
VERSION:2.0
PRODID:SchoolNow
CALSCALE:GREGORIAN
BEGIN:VEVENT
UID:71b95bda-572d-11f0-88e6-0a58a9feac02
DTSTAMP:20251217T081016Z
SUMMARY:Lincoln's Day - No School
URL;VALUE=URI:https://www.tusd.org/schools/towers/calendar/8376701/lincolns
 -day-no-school
DTSTART;VALUE=DATE:20260209
DTEND;VALUE=DATE:20260210
END:VEVENT
END:VCALENDAR
