BEGIN:VCALENDAR
VERSION:2.0
PRODID:SchoolNow
CALSCALE:GREGORIAN
BEGIN:VEVENT
UID:71b95af4-572d-11f0-a4e3-0a58a9feac02
DTSTAMP:20251217T081015Z
SUMMARY:Parent-Teacher Conferences
URL;VALUE=URI:https://www.tusd.org/schools/towers/calendar/8376700/parent-t
 eacher-conferences
DTSTART;VALUE=DATE:20260126
DTEND;VALUE=DATE:20260130
END:VEVENT
END:VCALENDAR
