BEGIN:VCALENDAR
VERSION:2.0
PRODID:SchoolNow
CALSCALE:GREGORIAN
BEGIN:VEVENT
UID:71b95a0e-572d-11f0-80ba-0a58a9feac02
DTSTAMP:20251217T081015Z
SUMMARY:Parent-Teacher Conferences
URL;VALUE=URI:https://www.tusd.org/schools/towers/calendar/8376699/parent-t
 eacher-conferences
DTSTART;VALUE=DATE:20260120
DTEND;VALUE=DATE:20260124
END:VEVENT
END:VCALENDAR
