BEGIN:VCALENDAR
VERSION:2.0
PRODID:SchoolNow
CALSCALE:GREGORIAN
BEGIN:VEVENT
UID:71b95932-572d-11f0-90d1-0a58a9feac02
DTSTAMP:20251217T081016Z
SUMMARY:No School - MLK Day
URL;VALUE=URI:https://www.tusd.org/schools/towers/calendar/8376698/no-schoo
 l-mlk-day
DTSTART;VALUE=DATE:20260119
DTEND;VALUE=DATE:20260120
END:VEVENT
END:VCALENDAR
