BEGIN:VCALENDAR
VERSION:2.0
PRODID:SchoolNow
CALSCALE:GREGORIAN
BEGIN:VEVENT
UID:71b9559a-572d-11f0-ba58-0a58a9feac02
DTSTAMP:20251217T081015Z
SUMMARY:Veteran's Day
URL;VALUE=URI:https://www.tusd.org/schools/towers/calendar/8376694/veterans
 -day
DTSTART;VALUE=DATE:20251111
DTEND;VALUE=DATE:20251112
END:VEVENT
END:VCALENDAR
