BEGIN:VCALENDAR
VERSION:2.0
PRODID:SchoolNow
CALSCALE:GREGORIAN
BEGIN:VEVENT
UID:71b9548c-572d-11f0-967d-0a58a9feac02
DTSTAMP:20251217T081016Z
SUMMARY:Non-Instructional Day
URL;VALUE=URI:https://www.tusd.org/schools/towers/calendar/8376693/non-inst
 ructional-day
DTSTART;VALUE=DATE:20251110
DTEND;VALUE=DATE:20251111
END:VEVENT
END:VCALENDAR
