BEGIN:VCALENDAR
VERSION:2.0
PRODID:SchoolNow
CALSCALE:GREGORIAN
BEGIN:VEVENT
UID:71b9522a-572d-11f0-aa8a-0a58a9feac02
DTSTAMP:20251217T081015Z
SUMMARY:Fall Picture Make Up Day
URL;VALUE=URI:https://www.tusd.org/schools/towers/calendar/8376692/fall-pic
 ture-make-up-day
DTSTART;VALUE=DATE:20251106
DTEND;VALUE=DATE:20251107
END:VEVENT
END:VCALENDAR
