BEGIN:VCALENDAR
VERSION:2.0
PRODID:SchoolNow
CALSCALE:GREGORIAN
BEGIN:VEVENT
UID:71b9505e-572d-11f0-ad7a-0a58a9feac02
DTSTAMP:20251217T081016Z
SUMMARY:Book Fair
URL;VALUE=URI:https://www.tusd.org/schools/towers/calendar/8376690/book-fai
 r
DTSTART;VALUE=DATE:20251020
DTEND;VALUE=DATE:20251025
END:VEVENT
END:VCALENDAR
