BEGIN:VCALENDAR
VERSION:2.0
PRODID:SchoolNow
CALSCALE:GREGORIAN
BEGIN:VEVENT
UID:71b94f6e-572d-11f0-a7b1-0a58a9feac02
DTSTAMP:20251217T081015Z
SUMMARY:Skechers Walk
URL;VALUE=URI:https://www.tusd.org/schools/towers/calendar/8376689/skechers
 -walk
DTSTART:20251019T150000Z
DTEND:20251019T170000Z
END:VEVENT
END:VCALENDAR
