BEGIN:VCALENDAR
VERSION:2.0
PRODID:SchoolNow
CALSCALE:GREGORIAN
BEGIN:VEVENT
UID:71b94e7e-572d-11f0-a878-0a58a9feac02
DTSTAMP:20251217T081015Z
SUMMARY:Parent-Teacher Conferences (Invite Only)
URL;VALUE=URI:https://www.tusd.org/schools/towers/calendar/8376688/parent-t
 eacher-conferences-invite-only
DTSTART;VALUE=DATE:20251016
DTEND;VALUE=DATE:20251018
END:VEVENT
END:VCALENDAR
