BEGIN:VCALENDAR
VERSION:2.0
PRODID:SchoolNow
CALSCALE:GREGORIAN
BEGIN:VEVENT
UID:71b94d8e-572d-11f0-95ff-0a58a9feac02
DTSTAMP:20251217T081015Z
SUMMARY:Non-Instructional Day
URL;VALUE=URI:https://www.tusd.org/schools/towers/calendar/8376687/non-inst
 ructional-day
DTSTART;VALUE=DATE:20251002
DTEND;VALUE=DATE:20251003
END:VEVENT
END:VCALENDAR
