BEGIN:VCALENDAR
VERSION:2.0
PRODID:SchoolNow
CALSCALE:GREGORIAN
BEGIN:VEVENT
UID:71b94c8a-572d-11f0-be52-0a58a9feac02
DTSTAMP:20251217T081015Z
SUMMARY:Casino Night
URL;VALUE=URI:https://www.tusd.org/schools/towers/calendar/8376686/casino-n
 ight
DTSTART:20250928T010000Z
DTEND:20250928T050000Z
END:VEVENT
END:VCALENDAR
