BEGIN:VCALENDAR
VERSION:2.0
PRODID:SchoolNow
CALSCALE:GREGORIAN
BEGIN:VEVENT
UID:71b94b5e-572d-11f0-a8eb-0a58a9feac02
DTSTAMP:20251217T081016Z
SUMMARY:Fall Picture Day
URL;VALUE=URI:https://www.tusd.org/schools/towers/calendar/8376685/fall-pic
 ture-day
DTSTART;VALUE=DATE:20250925
DTEND;VALUE=DATE:20250926
END:VEVENT
END:VCALENDAR
