BEGIN:VCALENDAR
VERSION:2.0
PRODID:SchoolNow
CALSCALE:GREGORIAN
BEGIN:VEVENT
UID:71b949ba-572d-11f0-a352-0a58a9feac02
DTSTAMP:20251217T081016Z
SUMMARY:Student Free Day
URL;VALUE=URI:https://www.tusd.org/schools/towers/calendar/8376684/student-
 free-day
DTSTART;VALUE=DATE:20250919
DTEND;VALUE=DATE:20250920
END:VEVENT
END:VCALENDAR
