BEGIN:VCALENDAR
VERSION:2.0
PRODID:SchoolNow
CALSCALE:GREGORIAN
BEGIN:VEVENT
UID:80289e66-55fb-11f0-a65b-0a58a9feac02
DTSTAMP:20251217T081015Z
SUMMARY:No School - Labor Day
URL;VALUE=URI:https://www.tusd.org/schools/towers/calendar/8370973/no-schoo
 l-labor-day
DTSTART;VALUE=DATE:20250901
DTEND;VALUE=DATE:20250902
END:VEVENT
END:VCALENDAR
