BEGIN:VCALENDAR
VERSION:2.0
PRODID:SchoolNow
CALSCALE:GREGORIAN
BEGIN:VEVENT
UID:73c4e9d2-18b4-11f1-9ada-0a58a9feac02
DTSTAMP:20260421T134507Z
SUMMARY:8th Grade Parent Night
URL;VALUE=URI:https://www.tusd.org/schools/torrance-high-school/calendar/88
 93255/8th-grade-parent-night
DTSTART:20260409T010000Z
DTEND:20260409T020000Z
END:VEVENT
END:VCALENDAR
