BEGIN:VCALENDAR
VERSION:2.0
PRODID:SchoolNow
CALSCALE:GREGORIAN
BEGIN:VEVENT
UID:599e650a-b91f-11f0-83c8-0affcde62a09
DTSTAMP:20260421T134507Z
SUMMARY:First Day of School
URL;VALUE=URI:https://www.tusd.org/schools/torrance-high-school/calendar/87
 74306/first-day-of-school
DTSTART;VALUE=DATE:20260820
DTEND;VALUE=DATE:20260821
END:VEVENT
END:VCALENDAR
