BEGIN:VCALENDAR
VERSION:2.0
PRODID:SchoolNow
CALSCALE:GREGORIAN
BEGIN:VEVENT
UID:745a35e8-5dcd-11f0-81dc-0a58a9feac02
DTSTAMP:20260421T194509Z
SUMMARY:End of Semester 1
URL;VALUE=URI:https://www.tusd.org/schools/torrance-high-school/calendar/84
 03313/end-of-semester-1
DTSTART;VALUE=DATE:20260123
DTEND;VALUE=DATE:20260124
END:VEVENT
END:VCALENDAR
