BEGIN:VCALENDAR
VERSION:2.0
PRODID:SchoolNow
CALSCALE:GREGORIAN
BEGIN:VEVENT
UID:745a34da-5dcd-11f0-ab98-0a58a9feac02
DTSTAMP:20260421T194509Z
SUMMARY:End of 3rd Quarter
URL;VALUE=URI:https://www.tusd.org/schools/torrance-high-school/calendar/84
 03312/end-of-3rd-quarter
DTSTART;VALUE=DATE:20260327
DTEND;VALUE=DATE:20260328
END:VEVENT
END:VCALENDAR
