BEGIN:VCALENDAR
VERSION:2.0
PRODID:SchoolNow
CALSCALE:GREGORIAN
BEGIN:VEVENT
UID:745a33c2-5dcd-11f0-870c-0a58a9feac02
DTSTAMP:20260421T134507Z
SUMMARY:Graduation
URL;VALUE=URI:https://www.tusd.org/schools/torrance-high-school/calendar/84
 03311/graduation
DTSTART;VALUE=DATE:20260610
DTEND;VALUE=DATE:20260611
END:VEVENT
END:VCALENDAR
