BEGIN:VCALENDAR
VERSION:2.0
PRODID:SchoolNow
CALSCALE:GREGORIAN
BEGIN:VEVENT
UID:745a32aa-5dcd-11f0-a9b9-0a58a9feac02
DTSTAMP:20260421T134507Z
SUMMARY:Last Day of School - 9-11th Grade
URL;VALUE=URI:https://www.tusd.org/schools/torrance-high-school/calendar/84
 03310/last-day-of-school-9-11th-grade
DTSTART;VALUE=DATE:20260611
DTEND;VALUE=DATE:20260612
END:VEVENT
END:VCALENDAR
