BEGIN:VCALENDAR
VERSION:2.0
PRODID:SchoolNow
CALSCALE:GREGORIAN
BEGIN:VEVENT
UID:745a317e-5dcd-11f0-8274-0a58a9feac02
DTSTAMP:20260421T134507Z
SUMMARY:Finals Schedule - Semester 2
URL;VALUE=URI:https://www.tusd.org/schools/torrance-high-school/calendar/84
 03309/finals-schedule-semester-2
DTSTART;VALUE=DATE:20260609
DTEND;VALUE=DATE:20260612
END:VEVENT
END:VCALENDAR
