BEGIN:VCALENDAR
VERSION:2.0
PRODID:SchoolNow
CALSCALE:GREGORIAN
BEGIN:VEVENT
UID:745a303e-5dcd-11f0-9ebb-0a58a9feac02
DTSTAMP:20260421T134507Z
SUMMARY:Senior Finals
URL;VALUE=URI:https://www.tusd.org/schools/torrance-high-school/calendar/84
 03308/senior-finals
DTSTART;VALUE=DATE:20260601
DTEND;VALUE=DATE:20260604
END:VEVENT
END:VCALENDAR
