BEGIN:VCALENDAR
VERSION:2.0
PRODID:SchoolNow
CALSCALE:GREGORIAN
BEGIN:VEVENT
UID:745a2ed6-5dcd-11f0-9f99-0a58a9feac02
DTSTAMP:20260421T134507Z
SUMMARY:NOT Late Start Tuesday
URL;VALUE=URI:https://www.tusd.org/schools/torrance-high-school/calendar/84
 03307/not-late-start-tuesday
DTSTART;VALUE=DATE:20260602
DTEND;VALUE=DATE:20260603
END:VEVENT
END:VCALENDAR
