BEGIN:VCALENDAR
VERSION:2.0
PRODID:SchoolNow
CALSCALE:GREGORIAN
BEGIN:VEVENT
UID:7421d824-5dcd-11f0-8d96-0a58a9feac02
DTSTAMP:20260421T134507Z
SUMMARY:Late Start Tuesday
URL;VALUE=URI:https://www.tusd.org/schools/torrance-high-school/calendar/84
 03230/late-start-tuesday
DTSTART;VALUE=DATE:20260512
DTEND;VALUE=DATE:20260513
END:VEVENT
END:VCALENDAR
