BEGIN:VCALENDAR
VERSION:2.0
PRODID:SchoolNow
CALSCALE:GREGORIAN
BEGIN:VEVENT
UID:7421d73e-5dcd-11f0-bc2c-0a58a9feac02
DTSTAMP:20260421T074007Z
SUMMARY:Late Start Tuesday
URL;VALUE=URI:https://www.tusd.org/schools/torrance-high-school/calendar/84
 03228/late-start-tuesday
DTSTART;VALUE=DATE:20260505
DTEND;VALUE=DATE:20260506
END:VEVENT
END:VCALENDAR
