BEGIN:VCALENDAR
VERSION:2.0
PRODID:SchoolNow
CALSCALE:GREGORIAN
BEGIN:VEVENT
UID:7421d20c-5dcd-11f0-bc80-0a58a9feac02
DTSTAMP:20260421T134507Z
SUMMARY:Spring Break
URL;VALUE=URI:https://www.tusd.org/schools/torrance-high-school/calendar/84
 03215/spring-break
DTSTART;VALUE=DATE:20260330
DTEND;VALUE=DATE:20260404
END:VEVENT
END:VCALENDAR
