BEGIN:VCALENDAR
VERSION:2.0
PRODID:SchoolNow
CALSCALE:GREGORIAN
BEGIN:VEVENT
UID:7421cf78-5dcd-11f0-8d04-0a58a9feac02
DTSTAMP:20260421T194509Z
SUMMARY:No School - Student Free Day/Staff Development
URL;VALUE=URI:https://www.tusd.org/schools/torrance-high-school/calendar/84
 03208/no-school-student-free-day-staff-development
DTSTART;VALUE=DATE:20260306
DTEND;VALUE=DATE:20260307
END:VEVENT
END:VCALENDAR
