BEGIN:VCALENDAR
VERSION:2.0
PRODID:SchoolNow
CALSCALE:GREGORIAN
BEGIN:VEVENT
UID:7421ce9c-5dcd-11f0-89f9-0a58a9feac02
DTSTAMP:20260421T194509Z
SUMMARY:Late Start Tuesday
URL;VALUE=URI:https://www.tusd.org/schools/torrance-high-school/calendar/84
 03206/late-start-tuesday
DTSTART;VALUE=DATE:20260310
DTEND;VALUE=DATE:20260311
END:VEVENT
END:VCALENDAR
