BEGIN:VCALENDAR
VERSION:2.0
PRODID:SchoolNow
CALSCALE:GREGORIAN
BEGIN:VEVENT
UID:7421cb22-5dcd-11f0-a425-0a58a9feac02
DTSTAMP:20260421T194509Z
SUMMARY:No School - President's Day
URL;VALUE=URI:https://www.tusd.org/schools/torrance-high-school/calendar/84
 03198/no-school-presidents-day
DTSTART;VALUE=DATE:20260216
DTEND;VALUE=DATE:20260217
END:VEVENT
END:VCALENDAR
