BEGIN:VCALENDAR
VERSION:2.0
PRODID:SchoolNow
CALSCALE:GREGORIAN
BEGIN:VEVENT
UID:7421ca46-5dcd-11f0-9d49-0a58a9feac02
DTSTAMP:20260421T194509Z
SUMMARY:No School - Lincoln Day
URL;VALUE=URI:https://www.tusd.org/schools/torrance-high-school/calendar/84
 03196/no-school-lincoln-day
DTSTART;VALUE=DATE:20260209
DTEND;VALUE=DATE:20260210
END:VEVENT
END:VCALENDAR
