BEGIN:VCALENDAR
VERSION:2.0
PRODID:SchoolNow
CALSCALE:GREGORIAN
BEGIN:VEVENT
UID:7421c87a-5dcd-11f0-b5f3-0a58a9feac02
DTSTAMP:20260421T194509Z
SUMMARY:Late Start Tuesday
URL;VALUE=URI:https://www.tusd.org/schools/torrance-high-school/calendar/84
 03191/late-start-tuesday
DTSTART;VALUE=DATE:20260203
DTEND;VALUE=DATE:20260204
END:VEVENT
END:VCALENDAR
