BEGIN:VCALENDAR
VERSION:2.0
PRODID:SchoolNow
CALSCALE:GREGORIAN
BEGIN:VEVENT
UID:7421c6b8-5dcd-11f0-8e34-0a58a9feac02
DTSTAMP:20260421T194509Z
SUMMARY:Finals Schedule - Semester 1
URL;VALUE=URI:https://www.tusd.org/schools/torrance-high-school/calendar/84
 03186/finals-schedule-semester-1
DTSTART;VALUE=DATE:20260121
DTEND;VALUE=DATE:20260124
END:VEVENT
END:VCALENDAR
