BEGIN:VCALENDAR
VERSION:2.0
PRODID:SchoolNow
CALSCALE:GREGORIAN
BEGIN:VEVENT
UID:7421c5c8-5dcd-11f0-ac7c-0a58a9feac02
DTSTAMP:20260421T194509Z
SUMMARY:No School - MLK Jr. Holiday
URL;VALUE=URI:https://www.tusd.org/schools/torrance-high-school/calendar/84
 03183/no-school-mlk-jr-holiday
DTSTART;VALUE=DATE:20260119
DTEND;VALUE=DATE:20260120
END:VEVENT
END:VCALENDAR
