BEGIN:VCALENDAR
VERSION:2.0
PRODID:SchoolNow
CALSCALE:GREGORIAN
BEGIN:VEVENT
UID:7421c186-5dcd-11f0-8cee-0a58a9feac02
DTSTAMP:20260421T194509Z
SUMMARY:Winter Break
URL;VALUE=URI:https://www.tusd.org/schools/torrance-high-school/calendar/84
 03179/winter-break
DTSTART;VALUE=DATE:20251229
DTEND;VALUE=DATE:20260103
END:VEVENT
END:VCALENDAR
