BEGIN:VCALENDAR
VERSION:2.0
PRODID:SchoolNow
CALSCALE:GREGORIAN
BEGIN:VEVENT
UID:4425bab2-88db-11eb-bc38-0a036da6cc97
DTSTAMP:20210319T174808Z
SUMMARY:Last Day of School
URL;VALUE=URI:https://www.tusd.org/schools/torrance-elementary/torrance-ele
 mentary-old/calendar/2559251/last-day-of-school
DTSTART:20210610T160000Z
DTEND:20210610T221500Z
END:VEVENT
END:VCALENDAR
