BEGIN:VCALENDAR
VERSION:2.0
PRODID:SchoolNow
CALSCALE:GREGORIAN
BEGIN:VEVENT
UID:11a8f144-3df8-11f1-915c-0a58a9feac02
DTSTAMP:20260422T091008Z
SUMMARY:School Spirit Wednesday
URL;VALUE=URI:https://www.tusd.org/schools/torrance-elementary/calendar/901
 0234/school-spirit-wednesday
DTSTART;VALUE=DATE:20271222
DTEND;VALUE=DATE:20271223
END:VEVENT
END:VCALENDAR
