BEGIN:VCALENDAR
VERSION:2.0
PRODID:SchoolNow
CALSCALE:GREGORIAN
BEGIN:VEVENT
UID:150d70cc-3dc5-11f1-8d6e-0a58a9feac02
DTSTAMP:20260425T101007Z
SUMMARY:Bus Driver Operations Day
URL;VALUE=URI:https://www.tusd.org/schools/torrance-elementary/calendar/900
 9709/bus-driver-operations-day
DTSTART;VALUE=DATE:20260428
DTEND;VALUE=DATE:20260429
END:VEVENT
END:VCALENDAR
