BEGIN:VCALENDAR
VERSION:2.0
PRODID:SchoolNow
CALSCALE:GREGORIAN
BEGIN:VEVENT
UID:46b4e456-39fc-11f1-b5f0-0a58a9feac02
DTSTAMP:20260422T091008Z
SUMMARY:College Gear
URL;VALUE=URI:https://www.tusd.org/schools/torrance-elementary/calendar/899
 8904/college-gear
DTSTART;VALUE=DATE:20271217
DTEND;VALUE=DATE:20271218
END:VEVENT
END:VCALENDAR
